BEGIN:VCALENDAR
VERSION:2.0
PRODID:icalendar-ruby
CALSCALE:GREGORIAN
METHOD:PUBLISH
BEGIN:VEVENT
DTSTAMP:20260419T192941Z
UID:41-1016717@graceepiscopal169.tithelysetup5.com
DTSTART:20261012T150000Z
DTEND:20261012T153000Z
CLASS:PUBLIC
CREATED:20260419T091037
DESCRIPTION:Join Deacon Cookie for morning prayer on YouTube or Facebook li
 ve at 8:00 AM. If you miss it live\, you can always watch later in the day
 !
LAST-MODIFIED:20260419T091037
LOCATION:YouTube and Facebook Live
SUMMARY:Morning Prayer Mondays
URL;VALUE=URI:https://gracechurchfairfield.org/events/morning-prayer-monday
 s/2026-10-12
ATTACH;FILENAME=Daily Morning Prayer BCP Pentecost (2).pdf;FMTTYPE=applicat
 ion/pdf:https://dq5pwpg1q8ru0.cloudfront.net/2025/06/09/04/42/42/c9a2ecd4-
 fa8b-46f2-b0ff-9765142b424a/Daily%20Morning%20Prayer%20BCP%20Pentecost%20(
 2).pdf
END:VEVENT
END:VCALENDAR
